BEGIN:VCALENDAR
VERSION:2.0
PRODID:icalendar-ruby
CALSCALE:GREGORIAN
METHOD:PUBLISH
BEGIN:VEVENT
DTSTAMP:20260422T161935Z
UID:3ebbd3bf-8628-4eb3-98b7-68b5acbf7f57
DTSTART:20240427T120000
DTEND:20240428T230000
DESCRIPTION:<p><strong>ÚLTIMOS TICKETS DISPONIBLES</strong></p><p><br></p>
 <p><strong>HORARIO SÁBADO 27/04 - </strong>de 12:00h a 00:30h</p><p><str
 ong>HORARIO DOMINGO 28/04 </strong>- de 12:00h a 23:00h</p><p><br></p>
LOCATION:Av. del Partenón\, 5C\, 28042 Madrid
SUMMARY:elrow Town Madrid 2024 Weekend Festival
URL;VALUE=URI:https://elrow.howler.co.za/ertmadrid24
END:VEVENT
END:VCALENDAR
