BEGIN:VCALENDAR
VERSION:2.0
PRODID:icalendar-ruby
CALSCALE:GREGORIAN
METHOD:PUBLISH
BEGIN:VEVENT
DTSTAMP:20260422T162049Z
UID:31e0ef51-75b6-4e67-af99-1d6db0875b17
DTSTART:20230817T120000
DTEND:20230817T223000
DESCRIPTION:<p><strong>More tickets available now!</strong></p><p><strong>P
 re Sale Tickets - </strong><strong style="color: rgb(224\, 0\, 0)\;">SOLD 
 OUT</strong></p><p><strong>General Admission 1st Release - </strong><stron
 g style="color: rgb(224\, 0\, 0)\;">SOLD OUT</strong></p><p><strong style=
 "color: rgb(54\, 53\, 53)\;">Christmas Tickets </strong><strong style="col
 or: rgb(0\, 0\, 0)\;">-</strong><strong style="color: rgb(224\, 0\, 0)\;">
  SOLD OUT</strong></p>
LOCATION:333 Ivyhouse Rd\, Dagenham RM9 5SA\, United Kingdom
SUMMARY:elrow Town London 2024
URL;VALUE=URI:https://elrow.howler.co.za/ertlondon24
END:VEVENT
END:VCALENDAR
