BEGIN:VCALENDAR
VERSION:2.0
PRODID:icalendar-ruby
CALSCALE:GREGORIAN
METHOD:PUBLISH
BEGIN:VEVENT
DTSTAMP:20260419T125745Z
UID:3d8a9552-ea35-4dcb-937e-936ff814aea1
DTSTART:20231101T140000
DTEND:20231102T013000
DESCRIPTION:<p><br></p>
LOCATION:Estadio La Cartuja (Zona Exterior)\, Sevilla
SUMMARY:elrow Sevilla Horroween Festival - Sign Up
URL;VALUE=URI:https://elrow.howler.co.za/SevillaHorroweenSU
END:VEVENT
END:VCALENDAR
