BEGIN:VCALENDAR
VERSION:2.0
PRODID:icalendar-ruby
CALSCALE:GREGORIAN
METHOD:PUBLISH
BEGIN:VEVENT
DTSTAMP:20260419T165139Z
UID:4bb4fc0d-d7f8-48ec-8ae1-df1a1cb3df54
DTSTART:20230616T170000
DTEND:20230617T020000
DESCRIPTION:<p>PREVENTA PRÓXIMO 7 DE MARZO</p><p><br></p><p>PRESALE NEXT M
 ARCH 7th</p>
LOCATION:Av. de Francesc Ferrer i Guàrdia\, 13\, Sants-Montjuïc\, 08038 B
 arcelona
SUMMARY:elrow OFF SONAR - Acceso Exclusivo Preventa
URL;VALUE=URI:https://elrow.howler.co.za/offsonar24SU
END:VEVENT
END:VCALENDAR
