BEGIN:VCALENDAR
VERSION:2.0
PRODID:icalendar-ruby
CALSCALE:GREGORIAN
METHOD:PUBLISH
BEGIN:VEVENT
DTSTAMP:20260420T011916Z
UID:ee5b5b98-3f43-4cd2-9590-98a3a3070272
DTSTART:20240210T220000
DTEND:20240211T080000
DESCRIPTION:<p><strong style="color: rgb(48\, 139\, 9)\;">FINAL RELEASE! LA
 ST 100 TICKETS</strong></p><p><strong style="color: rgb(232\, 17\, 17)\;">
 EARLY BIRD - SOLD OUT</strong></p><p><strong style="color: rgb(232\, 17\, 
 17)\;">1ST RELEASE - SOLD OUT</strong></p><p><strong style="color: rgb(232
 \, 17\, 17)\;">2ND RELEASE - SOLD OUT</strong></p><p><strong style="color:
  rgb(232\, 17\, 17)\;">3RD RELEASE - SOLD OUT</strong></p>
LOCATION:Alameda dos Oceanos\, 1990 Lisbon\, Portugal
SUMMARY:elrow Lisboa 2024
URL;VALUE=URI:https://elrow.howler.co.za/lisboa24
END:VEVENT
END:VCALENDAR
